BEGIN:VCALENDAR
VERSION:2.0
PRODID:-//Hindu Union - ECPv6.15.20//NONSGML v1.0//EN
CALSCALE:GREGORIAN
METHOD:PUBLISH
X-WR-CALNAME:Hindu Union
X-ORIGINAL-URL:https://hinduunion.se
X-WR-CALDESC:Händelser för Hindu Union
REFRESH-INTERVAL;VALUE=DURATION:PT1H
X-Robots-Tag:noindex
X-PUBLISHED-TTL:PT1H
BEGIN:VTIMEZONE
TZID:Europe/Stockholm
BEGIN:DAYLIGHT
TZOFFSETFROM:+0100
TZOFFSETTO:+0200
TZNAME:CEST
DTSTART:20250330T010000
END:DAYLIGHT
BEGIN:STANDARD
TZOFFSETFROM:+0200
TZOFFSETTO:+0100
TZNAME:CET
DTSTART:20251026T010000
END:STANDARD
BEGIN:DAYLIGHT
TZOFFSETFROM:+0100
TZOFFSETTO:+0200
TZNAME:CEST
DTSTART:20260329T010000
END:DAYLIGHT
BEGIN:STANDARD
TZOFFSETFROM:+0200
TZOFFSETTO:+0100
TZNAME:CET
DTSTART:20261025T010000
END:STANDARD
BEGIN:DAYLIGHT
TZOFFSETFROM:+0100
TZOFFSETTO:+0200
TZNAME:CEST
DTSTART:20270328T010000
END:DAYLIGHT
BEGIN:STANDARD
TZOFFSETFROM:+0200
TZOFFSETTO:+0100
TZNAME:CET
DTSTART:20271031T010000
END:STANDARD
END:VTIMEZONE
BEGIN:VEVENT
DTSTART;TZID=Europe/Stockholm:20260808T160000
DTEND;TZID=Europe/Stockholm:20260808T235900
DTSTAMP:20260422T103210
CREATED:20260416T114807Z
LAST-MODIFIED:20260421T202422Z
UID:10000002-1786204800-1786233540@hinduunion.se
SUMMARY:50-årsjubileum med Hindu Union
DESCRIPTION:Viktig information: \n\nDetta evenemang är endast öppet för de som har anmält sig i förväg. Om du inte har fått en bekräftelse med en biljett för din anmälan\, ber vi dig vänta. Du kan registrera dig till väntelistan om du fortfarande är intresserad. (Biljetter kommer kontrolleras i entré)\nOm du får förhinder ber vi dig avanmälan din plats innan 17 Juli 2026 för att vi ska kunna erbjuda platser till andra som är intresserade.\nOBS! Alkohol är ej tillåtet under detta event
URL:https://hinduunion.se/event/guldjubileum-50ar-med-hindu-union/
LOCATION:Elmia Konsert & Kongress\, Elmiavägen 15\, Jönköping\, 554 54\, Sweden
ATTACH;FMTTYPE=image/svg+xml:https://hinduunion.se/wp-content/uploads/2026/04/Gold-and-Beige-Traditional-Wedding-Invitation-Presentation-43-1.svg
ORGANIZER;CN="Hindu Union":MAILTO:info@hinduunion.se
END:VEVENT
END:VCALENDAR